BEGIN:VCALENDAR
VERSION:2.0
PRODID:-//MonoVino - ECPv6.9.0//NONSGML v1.0//EN
CALSCALE:GREGORIAN
METHOD:PUBLISH
X-ORIGINAL-URL:https://monovino.net
X-WR-CALDESC:MonoVino için etkinlikler
REFRESH-INTERVAL;VALUE=DURATION:PT1H
X-Robots-Tag:noindex
X-PUBLISHED-TTL:PT1H
BEGIN:VTIMEZONE
TZID:Europe/Moscow
BEGIN:STANDARD
TZOFFSETFROM:+0300
TZOFFSETTO:+0300
TZNAME:MSK
DTSTART:20250101T000000
END:STANDARD
END:VTIMEZONE
BEGIN:VEVENT
DTSTART;TZID=Europe/Moscow:20250427T170000
DTEND;TZID=Europe/Moscow:20250427T190000
DTSTAMP:20260420T190117
CREATED:20250102T162534Z
LAST-MODIFIED:20250301T150534Z
UID:10000012-1745773200-1745780400@monovino.net
SUMMARY:MonoVino Beyoğlu Şaraphanesi
DESCRIPTION:
URL:https://monovino.net/etkinlik/monovino-beyoglu-saraphanesi/2025-04-27/
LOCATION:Beyoğlu Şaraphanesi\, Beyoğlu Şaraphanesi\, İstanbul\, Istanbul\, Turkey
ORGANIZER;CN="MonoVino":MAILTO:info@monovino.net
END:VEVENT
END:VCALENDAR