BEGIN:VCALENDAR
VERSION:2.0
PRODID:-//MonoVino - ECPv6.9.0//NONSGML v1.0//EN
CALSCALE:GREGORIAN
METHOD:PUBLISH
X-ORIGINAL-URL:https://monovino.net
X-WR-CALDESC:MonoVino için etkinlikler
REFRESH-INTERVAL;VALUE=DURATION:PT1H
X-Robots-Tag:noindex
X-PUBLISHED-TTL:PT1H
BEGIN:VTIMEZONE
TZID:Europe/Moscow
BEGIN:STANDARD
TZOFFSETFROM:+0300
TZOFFSETTO:+0300
TZNAME:MSK
DTSTART:20250101T000000
END:STANDARD
END:VTIMEZONE
BEGIN:VEVENT
DTSTART;TZID=Europe/Moscow:20250518T170000
DTEND;TZID=Europe/Moscow:20250518T190000
DTSTAMP:20260419T220051
CREATED:20250102T162534Z
LAST-MODIFIED:20250301T150534Z
UID:10000013-1747587600-1747594800@monovino.net
SUMMARY:MonoVino Beyoğlu Şaraphanesi
DESCRIPTION:
URL:https://monovino.net/etkinlik/monovino-beyoglu-saraphanesi/2025-05-18/
LOCATION:Beyoğlu Şaraphanesi\, Beyoğlu Şaraphanesi\, İstanbul\, Istanbul\, Turkey
ORGANIZER;CN="MonoVino":MAILTO:info@monovino.net
END:VEVENT
BEGIN:VEVENT
DTSTART;TZID=Europe/Moscow:20250427T170000
DTEND;TZID=Europe/Moscow:20250427T190000
DTSTAMP:20260419T220051
CREATED:20250102T162534Z
LAST-MODIFIED:20250301T150534Z
UID:10000012-1745773200-1745780400@monovino.net
SUMMARY:MonoVino Beyoğlu Şaraphanesi
DESCRIPTION:
URL:https://monovino.net/etkinlik/monovino-beyoglu-saraphanesi/2025-04-27/
LOCATION:Beyoğlu Şaraphanesi\, Beyoğlu Şaraphanesi\, İstanbul\, Istanbul\, Turkey
ORGANIZER;CN="MonoVino":MAILTO:info@monovino.net
END:VEVENT
BEGIN:VEVENT
DTSTART;TZID=Europe/Moscow:20250412T190000
DTEND;TZID=Europe/Moscow:20250412T210000
DTSTAMP:20260419T220051
CREATED:20250102T162943Z
LAST-MODIFIED:20250301T150513Z
UID:10000011-1744484400-1744491600@monovino.net
SUMMARY:MonoVino Decollage Art Space
DESCRIPTION:
URL:https://monovino.net/etkinlik/monovino-decollage-art-space/2025-04-12/
LOCATION:Decollage Art Space\, Decollage Art Space\, İstanbul\, Kadıköy\, Turkey
ORGANIZER;CN="MonoVino":MAILTO:info@monovino.net
END:VEVENT
BEGIN:VEVENT
DTSTART;TZID=Europe/Moscow:20250214T190000
DTEND;TZID=Europe/Moscow:20250214T210000
DTSTAMP:20260419T220051
CREATED:20250102T162943Z
LAST-MODIFIED:20250301T150513Z
UID:10000010-1739559600-1739566800@monovino.net
SUMMARY:MonoVino Decollage Art Space
DESCRIPTION:
URL:https://monovino.net/etkinlik/monovino-decollage-art-space/2025-02-14/
LOCATION:Decollage Art Space\, Decollage Art Space\, İstanbul\, Kadıköy\, Turkey
ORGANIZER;CN="MonoVino":MAILTO:info@monovino.net
END:VEVENT
BEGIN:VEVENT
DTSTART;TZID=Europe/Moscow:20250202T170000
DTEND;TZID=Europe/Moscow:20250202T190000
DTSTAMP:20260419T220051
CREATED:20250102T162534Z
LAST-MODIFIED:20250301T150534Z
UID:10000002-1738515600-1738522800@monovino.net
SUMMARY:MonoVino Beyoğlu Şaraphanesi
DESCRIPTION:
URL:https://monovino.net/etkinlik/monovino-beyoglu-saraphanesi/2025-02-02/
LOCATION:Beyoğlu Şaraphanesi\, Beyoğlu Şaraphanesi\, İstanbul\, Istanbul\, Turkey
ORGANIZER;CN="MonoVino":MAILTO:info@monovino.net
END:VEVENT
BEGIN:VEVENT
DTSTART;TZID=Europe/Moscow:20250125T190000
DTEND;TZID=Europe/Moscow:20250125T210000
DTSTAMP:20260419T220051
CREATED:20250102T162943Z
LAST-MODIFIED:20250301T150513Z
UID:10000006-1737831600-1737838800@monovino.net
SUMMARY:MonoVino Decollage Art Space
DESCRIPTION:
URL:https://monovino.net/etkinlik/monovino-decollage-art-space/2025-01-25/
LOCATION:Decollage Art Space\, Decollage Art Space\, İstanbul\, Kadıköy\, Turkey
ORGANIZER;CN="MonoVino":MAILTO:info@monovino.net
END:VEVENT
BEGIN:VEVENT
DTSTART;TZID=Europe/Moscow:20250112T170000
DTEND;TZID=Europe/Moscow:20250112T190000
DTSTAMP:20260419T220051
CREATED:20250102T162534Z
LAST-MODIFIED:20250301T150534Z
UID:10000001-1736701200-1736708400@monovino.net
SUMMARY:MonoVino Beyoğlu Şaraphanesi
DESCRIPTION:
URL:https://monovino.net/etkinlik/monovino-beyoglu-saraphanesi/2025-01-12/
LOCATION:Beyoğlu Şaraphanesi\, Beyoğlu Şaraphanesi\, İstanbul\, Istanbul\, Turkey
ORGANIZER;CN="MonoVino":MAILTO:info@monovino.net
END:VEVENT
END:VCALENDAR